BEGIN:VCALENDAR
VERSION:2.0
PRODID:-//SDM Ayurveda Bangalore - ECPv6.10.1.1//NONSGML v1.0//EN
CALSCALE:GREGORIAN
METHOD:PUBLISH
X-WR-CALNAME:SDM Ayurveda Bangalore
X-ORIGINAL-URL:https://sdmayurbangalore.in
X-WR-CALDESC:Events for SDM Ayurveda Bangalore
REFRESH-INTERVAL;VALUE=DURATION:PT1H
X-Robots-Tag:noindex
X-PUBLISHED-TTL:PT1H
BEGIN:VTIMEZONE
TZID:Asia/Kolkata
BEGIN:STANDARD
TZOFFSETFROM:+0530
TZOFFSETTO:+0530
TZNAME:IST
DTSTART:20220101T000000
END:STANDARD
END:VTIMEZONE
BEGIN:VEVENT
DTSTART;TZID=Asia/Kolkata:20220407T110000
DTEND;TZID=Asia/Kolkata:20220414T120000
DTSTAMP:20260421T062240
CREATED:20220406T162358Z
LAST-MODIFIED:20220406T162358Z
UID:4601-1649329200-1649937600@sdmayurbangalore.in
SUMMARY:DIABETIC YOGA CAMP
DESCRIPTION:Diabetic Yoga camp is being organized by Department of Swasthavritta & Yoga for both OP & IP patients from 7-4-2022 to 14-4-2022.\nVenue:- Yoga Hall\nTiming: – 11:00am- 12:00 pm\nRegistration fees:- Rs 600
URL:https://sdmayurbangalore.in/event/diabetic-yoga-camp/
LOCATION:Yoga Hall
CATEGORIES:upcoming event
END:VEVENT
END:VCALENDAR