BEGIN:VCALENDAR
VERSION:2.0
PRODID:-//SDM Ayurveda Bangalore - ECPv6.10.1.1//NONSGML v1.0//EN
CALSCALE:GREGORIAN
METHOD:PUBLISH
X-WR-CALNAME:SDM Ayurveda Bangalore
X-ORIGINAL-URL:https://sdmayurbangalore.in
X-WR-CALDESC:Events for SDM Ayurveda Bangalore
REFRESH-INTERVAL;VALUE=DURATION:PT1H
X-Robots-Tag:noindex
X-PUBLISHED-TTL:PT1H
BEGIN:VTIMEZONE
TZID:Asia/Kolkata
BEGIN:STANDARD
TZOFFSETFROM:+0530
TZOFFSETTO:+0530
TZNAME:IST
DTSTART:20210101T000000
END:STANDARD
END:VTIMEZONE
BEGIN:VEVENT
DTSTART;TZID=Asia/Kolkata:20210929T110000
DTEND;TZID=Asia/Kolkata:20210929T133000
DTSTAMP:20260421T150910
CREATED:20210927T215510Z
LAST-MODIFIED:20210927T215510Z
UID:4528-1632913200-1632922200@sdmayurbangalore.in
SUMMARY:Convocation Invitation
DESCRIPTION:Greetings from SDM Institute of Ayurveda and Hospital\, Anchepalya\, Bangalore.\nWe are happy to invite you to celebrate the success of our first batch students with a formal ceremony of graduation ‘Vishikanupravesha 2021’ on 29th September 2021 at 11 AM onwards in SDMIAH\, Bengaluru. \n On behalf of SDM Educational Society\, Principal\, staff and students\, You are cordially invited for the graduation day ceremony. \nDo join us in congratulating our first batch of outgoing students. We are most happy to have your presence. \n  \n \nDownload Invitation
URL:https://sdmayurbangalore.in/event/convocation-invitation/
LOCATION:SDMIAH CAMPUS
CATEGORIES:upcoming event
END:VEVENT
END:VCALENDAR