BEGIN:VCALENDAR
VERSION:2.0
PRODID:-//SDM Ayurveda Bangalore - ECPv6.10.1.1//NONSGML v1.0//EN
CALSCALE:GREGORIAN
METHOD:PUBLISH
X-WR-CALNAME:SDM Ayurveda Bangalore
X-ORIGINAL-URL:https://sdmayurbangalore.in
X-WR-CALDESC:Events for SDM Ayurveda Bangalore
REFRESH-INTERVAL;VALUE=DURATION:PT1H
X-Robots-Tag:noindex
X-PUBLISHED-TTL:PT1H
BEGIN:VTIMEZONE
TZID:Asia/Kolkata
BEGIN:STANDARD
TZOFFSETFROM:+0530
TZOFFSETTO:+0530
TZNAME:IST
DTSTART:20210101T000000
END:STANDARD
END:VTIMEZONE
BEGIN:VEVENT
DTSTART;TZID=Asia/Kolkata:20210401T133000
DTEND;TZID=Asia/Kolkata:20210401T170000
DTSTAMP:20260421T234041
CREATED:20210324T111513Z
LAST-MODIFIED:20210324T111513Z
UID:4364-1617283800-1617296400@sdmayurbangalore.in
SUMMARY:A National Webinar on Autism
DESCRIPTION:SAMBODHI -2021\nA National Webinar on Autism \n \n \nLast date for registration: 29/03/2021\nRegistration link: https://forms.gle/rdm7DgpVwMb1fKp2A\nRegistration fee: Rs 250/- . \nE-Certificate will be given to the registered participants \n  \nDownload Brochure
URL:https://sdmayurbangalore.in/event/a-national-webinar-on-autism/
LOCATION:SDM Institute of Ayurveda & Hospital\, Bengaluru
CATEGORIES:upcoming event
END:VEVENT
END:VCALENDAR